BEGIN:VCALENDAR
VERSION:2.0
PRODID:-//Collegium Vocale//ConcertAgenda//NL
CALSCALE:GREGORIAN
BEGIN:VEVENT
UID:69e774e6d222e@collegiumvocale.com
DTSTAMP:20260421T130022Z
DTSTART:20190923T203000
DTEND:20190923T223000
SUMMARY:Linzer Messe
DESCRIPTION:Mass No.2 in e minor for choir and winds\n[WAB 27] (version 1882)\nSymphony No.2 in C minor [WAB 102]\n\n\nCollegium Vocale Gent\nOrchestre des Champs Elysées\nPhilippe Herreweghe conductor\n
LOCATION:Sint-Baafskathedraal, Gent
URL:https://www.collegiumvocale.com/en/concert/linzer-messe-7/
END:VEVENT
END:VCALENDAR