BEGIN:VCALENDAR
VERSION:2.0
PRODID:-//Collegium Vocale//ConcertAgenda//NL
CALSCALE:GREGORIAN
BEGIN:VEVENT
UID:69ea13027ae92@collegiumvocale.com
DTSTAMP:20260423T123930Z
DTSTART:20230926T203000
DTEND:20230926T223000
SUMMARY:Apokalypsis
DESCRIPTION:James WOOD (°1953)\nApokalypsis (world premiere)\n\nBL!NDMAN Sax\nDarius Battiwalla organ\nCollegium Vocale Gent\nJames Wood conductor\n
LOCATION:Sint-Baafskathedraal, Gent
URL:https://www.collegiumvocale.com/en/concert/apokalypsis/
END:VEVENT
END:VCALENDAR