BEGIN:VCALENDAR
VERSION:2.0
PRODID:-//Collegium Vocale//ConcertAgenda//NL
CALSCALE:GREGORIAN
BEGIN:VEVENT
UID:69e4d0ad8a36f@collegiumvocale.com
DTSTAMP:20260419T125509Z
DTSTART:20201209T200000
DTEND:20201209T220000
SUMMARY:Trauer-Ode
DESCRIPTION:Cantate BWV 8 &#8220;Liebster Gott, wenn werd ich sterben&#8221;\nCantate BWV 198 &#8220;Lass Fürstin, lass noch einen Strahl&#8221; (Trauer-Ode)\n\nMiriam Feuersinger sopraan\nAlex Potter contratenor\nGuy Cutting tenor\nPeter Kooij bas\nCollegium Vocale Gent koor &amp; orkest\nPhilippe Herreweghe dirigent\n
LOCATION:deSingel, Antwerpen
URL:https://www.collegiumvocale.com/concert/trauer-ode/
END:VEVENT
END:VCALENDAR