BEGIN:VCALENDAR
VERSION:2.0
PRODID:-//Collegium Vocale//ConcertAgenda//NL
CALSCALE:GREGORIAN
BEGIN:VEVENT
UID:69e4d14c3f75a@collegiumvocale.com
DTSTAMP:20260419T125748Z
DTSTART:20160508T174500
DTEND:20160508T194500
SUMMARY:Requiem
DESCRIPTION:Wolfgang Amadeus MOZART (1756-1791):\n*Per questa bella mano K.612*\n*Clarinet concerto K.622*\n*Requiem K.626*\n\nNuria Rial _soprano_\nBarbara Kozelj _alto_\nBernard Richter _tenor_\nHanno Müller-Brachmann _bass_\nAkos Acs _clarinet_\n*Collegium Vocale Gent*\nBudapest Festival Orchetsra\nIvan Fischer\n
LOCATION:Palace of Arts, Budapest
URL:https://www.collegiumvocale.com/concert/requiem-23/
END:VEVENT
END:VCALENDAR