BEGIN:VCALENDAR
VERSION:2.0
PRODID:-//Collegium Vocale//ConcertAgenda//NL
CALSCALE:GREGORIAN
BEGIN:VEVENT
UID:69e775312612b@collegiumvocale.com
DTSTAMP:20260421T130137Z
DTSTART:20190125T200000
DTEND:20190125T220000
SUMMARY:O ewiges Feuer
DESCRIPTION:O ewiges Feuer, o Ursprung der Liebe, Cantate BWV34\nAlso hat Gott die Welt geliebt, Cantate BWV68\nLobet Gott in seinen Reichen, Himmelfahrtsoratorium BWV11\n\nDorothee Mields sopraan\nAlex Potter contratenor\nThomas Hobbs tenor\nPeter Kooij bas\nKoor &amp; Orkest Collegium Vocale Gent\nPhilippe Herreweghe  dirigent\n
LOCATION:Chapelle de la Trinité, Lyon
URL:https://www.collegiumvocale.com/concert/o-ewiges-feuer-3/
END:VEVENT
END:VCALENDAR