BEGIN:VCALENDAR
VERSION:2.0
PRODID:-//Collegium Vocale//ConcertAgenda//NL
CALSCALE:GREGORIAN
BEGIN:VEVENT
UID:69e774866a2d4@collegiumvocale.com
DTSTAMP:20260421T125846Z
DTSTART:20200702T200000
DTEND:20200702T220000
SUMMARY:Faust Szenen
DESCRIPTION:Szenen aus Goethes Faust\n\nPhilippe Herreweghe muzikale leiding\nJulian Rosenfeldt regie &amp; visueel concept\nFemke Gyselinck choreografie\nSammy Van den Heuvel scenografie\nTobias Staab, Katharina Lindekens dramaturgie\nJan Schweiger koorleiding\nHendrik Derolez kinderkoorleiding\nBrian Mulligan bariton &#8211; Faust / Doctor Marianus\nEleanor Lyons sopraan &#8211; Gretchen / Una Poenitentium\nMikhail Timoshenko bas &#8211; Mephistopheles / Pater Profundis\nLore Binon sopraan &#8211; Sorge / Magna Peccatrix\nRaphaële Green alt &#8211; Mulier Samaritana\nIlker Arcayürek tenor &#8211; Pater Ecstaticus / Ariel\nKoor Opera Ballet Vlaanderen\nCollegium Vocale Gent\nKinderkoor Opera Ballet Vlaanderen\nAntwerp Symphony Orchestra\n
LOCATION:Vlaamse Opera, Gent
URL:https://www.collegiumvocale.com/concert/faust-szenen-8/
END:VEVENT
END:VCALENDAR