BEGIN:VCALENDAR
VERSION:2.0
PRODID:-//Collegium Vocale//ConcertAgenda//NL
CALSCALE:GREGORIAN
BEGIN:VEVENT
UID:69e7749117e81@collegiumvocale.com
DTSTAMP:20260421T125857Z
DTSTART:20210727T210000
DTEND:20210727T230000
SUMMARY:Anima dolorosa
DESCRIPTION:Il Quarto Libro de Madrigali (1603)\n\nSolisten Collegium Vocale Gent\nPhilippe Herreweghe muzikale leiding\n
LOCATION:Chiesa San Francesco, Asciano
URL:https://www.collegiumvocale.com/concert/anima-dolorosa/
END:VEVENT
END:VCALENDAR